BEGIN:VCALENDAR
VERSION:2.0
PRODID:-//Sabre//Sabre VObject 4.5.8//EN
CALSCALE:GREGORIAN
BEGIN:VEVENT
UID:sabre-vobject-7bcf92d0-21b5-4fb3-846a-6080ca7a2381
DTSTAMP:20260423T195634Z
SUMMARY:Maiandachten in St. Anton
DESCRIPTION:https://ulrich-afra-anton.de/maiandachten-in-st-anton_id5769
DTSTART;TZID=Europe/Berlin:20260501T190000
DTEND;TZID=Europe/Berlin:20260531T190000
LOCATION:St. Anton\, Imhofstraße 47\, 86159 Augsburg
END:VEVENT
END:VCALENDAR
